BEGIN:VCALENDAR
VERSION:2.0
PRODID:-//NADI Ulu Seperi - ECPv6.15.20//NONSGML v1.0//EN
CALSCALE:GREGORIAN
METHOD:PUBLISH
X-WR-CALNAME:NADI Ulu Seperi
X-ORIGINAL-URL:https://kguluseperi.nadi.my
X-WR-CALDESC:Events for NADI Ulu Seperi
REFRESH-INTERVAL;VALUE=DURATION:PT1H
X-Robots-Tag:noindex
X-PUBLISHED-TTL:PT1H
BEGIN:VTIMEZONE
TZID:Asia/Kuala_Lumpur
BEGIN:STANDARD
TZOFFSETFROM:+0800
TZOFFSETTO:+0800
TZNAME:+08
DTSTART:20240101T000000
END:STANDARD
END:VTIMEZONE
BEGIN:VEVENT
DTSTART;TZID=Asia/Kuala_Lumpur:20250806T100000
DTEND;TZID=Asia/Kuala_Lumpur:20250806T110000
DTSTAMP:20260424T193159
CREATED:20250802T082044Z
LAST-MODIFIED:20250802T082044Z
UID:11775-1754474400-1754478000@kguluseperi.nadi.my
SUMMARY:E-Kelas: Modul 1
DESCRIPTION:
URL:https://kguluseperi.nadi.my/event/e-kelas-modul-1/
LOCATION:NADI Ulu Seperi
END:VEVENT
BEGIN:VEVENT
DTSTART;TZID=Asia/Kuala_Lumpur:20250806T090000
DTEND;TZID=Asia/Kuala_Lumpur:20250806T180000
DTSTAMP:20260424T193159
CREATED:20250802T082007Z
LAST-MODIFIED:20250802T082007Z
UID:11773-1754470800-1754503200@kguluseperi.nadi.my
SUMMARY:Keusahawanan Cohort 4: Video Pra Latihan – Pemasaran & Operasi
DESCRIPTION:
URL:https://kguluseperi.nadi.my/event/keusahawanan-cohort-4-video-pra-latihan-pemasaran-operasi/
LOCATION:NADI Ulu Seperi
END:VEVENT
BEGIN:VEVENT
DTSTART;TZID=Asia/Kuala_Lumpur:20250805T150000
DTEND;TZID=Asia/Kuala_Lumpur:20250805T160000
DTSTAMP:20260424T193159
CREATED:20250802T081759Z
LAST-MODIFIED:20250802T081759Z
UID:11771-1754406000-1754409600@kguluseperi.nadi.my
SUMMARY:E-Kelas: Modul 4
DESCRIPTION:
URL:https://kguluseperi.nadi.my/event/e-kelas-modul-4/
LOCATION:NADI Ulu Seperi
END:VEVENT
BEGIN:VEVENT
DTSTART;TZID=Asia/Kuala_Lumpur:20250805T100000
DTEND;TZID=Asia/Kuala_Lumpur:20250805T110000
DTSTAMP:20260424T193159
CREATED:20250802T081513Z
LAST-MODIFIED:20250802T081844Z
UID:11763-1754388000-1754391600@kguluseperi.nadi.my
SUMMARY:E-Kelas: Modul 3
DESCRIPTION:
URL:https://kguluseperi.nadi.my/event/e-kelas-modul-3-4/
LOCATION:NADI Ulu Seperi
END:VEVENT
BEGIN:VEVENT
DTSTART;TZID=Asia/Kuala_Lumpur:20250805T093000
DTEND;TZID=Asia/Kuala_Lumpur:20250805T110000
DTSTAMP:20260424T193159
CREATED:20250802T081601Z
LAST-MODIFIED:20250802T081601Z
UID:11765-1754386200-1754391600@kguluseperi.nadi.my
SUMMARY:Mahir Masak: Kak Ruzaisham (M3)
DESCRIPTION:
URL:https://kguluseperi.nadi.my/event/mahir-masak-kak-ruzaisham-m3/
LOCATION:NADI Ulu Seperi
END:VEVENT
BEGIN:VEVENT
DTSTART;TZID=Asia/Kuala_Lumpur:20250804T140000
DTEND;TZID=Asia/Kuala_Lumpur:20250804T150000
DTSTAMP:20260424T193159
CREATED:20250802T081726Z
LAST-MODIFIED:20250802T081726Z
UID:11769-1754316000-1754319600@kguluseperi.nadi.my
SUMMARY:E-Kelas: Modul 2
DESCRIPTION:
URL:https://kguluseperi.nadi.my/event/e-kelas-modul-2/
LOCATION:NADI Ulu Seperi
END:VEVENT
BEGIN:VEVENT
DTSTART;TZID=Asia/Kuala_Lumpur:20250804T100000
DTEND;TZID=Asia/Kuala_Lumpur:20250804T110000
DTSTAMP:20260424T193159
CREATED:20250802T081413Z
LAST-MODIFIED:20250802T081644Z
UID:11761-1754301600-1754305200@kguluseperi.nadi.my
SUMMARY:E-Kelas: Modul 1
DESCRIPTION:
URL:https://kguluseperi.nadi.my/event/e-kelas-modul-1-2/
LOCATION:NADI Ulu Seperi
END:VEVENT
BEGIN:VEVENT
DTSTART;TZID=Asia/Kuala_Lumpur:20250802T143000
DTEND;TZID=Asia/Kuala_Lumpur:20250802T163000
DTSTAMP:20260424T193159
CREATED:20250802T081105Z
LAST-MODIFIED:20250802T081105Z
UID:11759-1754145000-1754152200@kguluseperi.nadi.my
SUMMARY:DiLea: Webinar Berkala Sejarah Edisi 2
DESCRIPTION:
URL:https://kguluseperi.nadi.my/event/dilea-webinar-berkala-sejarah-edisi-2/
LOCATION:NADI Ulu Seperi
END:VEVENT
BEGIN:VEVENT
DTSTART;TZID=Asia/Kuala_Lumpur:20250601T093000
DTEND;TZID=Asia/Kuala_Lumpur:20250601T103000
DTSTAMP:20260424T193159
CREATED:20250528T061654Z
LAST-MODIFIED:20250528T061654Z
UID:10787-1748770200-1748773800@kguluseperi.nadi.my
SUMMARY:Mahir Pertanian Pintar
DESCRIPTION:
URL:https://kguluseperi.nadi.my/event/mahir-pertanian-pintar-17/
LOCATION:NADI Ulu Seperi
END:VEVENT
BEGIN:VEVENT
DTSTART;TZID=Asia/Kuala_Lumpur:20250530T093000
DTEND;TZID=Asia/Kuala_Lumpur:20250530T103000
DTSTAMP:20260424T193159
CREATED:20250528T061548Z
LAST-MODIFIED:20250528T061548Z
UID:10785-1748597400-1748601000@kguluseperi.nadi.my
SUMMARY:Mahir Pertanian Pintar
DESCRIPTION:
URL:https://kguluseperi.nadi.my/event/mahir-pertanian-pintar-16/
LOCATION:NADI Ulu Seperi
END:VEVENT
BEGIN:VEVENT
DTSTART;TZID=Asia/Kuala_Lumpur:20250529T100000
DTEND;TZID=Asia/Kuala_Lumpur:20250529T113000
DTSTAMP:20260424T193159
CREATED:20250528T061439Z
LAST-MODIFIED:20250528T061439Z
UID:10783-1748512800-1748518200@kguluseperi.nadi.my
SUMMARY:Mahir Foto: Suntingan Gambar (VSCO Filter)
DESCRIPTION:
URL:https://kguluseperi.nadi.my/event/mahir-foto-suntingan-gambar-vsco-filter/
LOCATION:NADI Ulu Seperi
END:VEVENT
BEGIN:VEVENT
DTSTART;TZID=Asia/Kuala_Lumpur:20250527T100000
DTEND;TZID=Asia/Kuala_Lumpur:20250527T110000
DTSTAMP:20260424T193159
CREATED:20250522T035446Z
LAST-MODIFIED:20250522T035446Z
UID:10678-1748340000-1748343600@kguluseperi.nadi.my
SUMMARY:Mahir Baiki Gajet: Cara Tukar LCD Telefon Pintar
DESCRIPTION:
URL:https://kguluseperi.nadi.my/event/mahir-baiki-gajet-cara-tukar-lcd-telefon-pintar/
LOCATION:NADI Ulu Seperi
END:VEVENT
BEGIN:VEVENT
DTSTART;TZID=Asia/Kuala_Lumpur:20250526T140000
DTEND;TZID=Asia/Kuala_Lumpur:20250526T150000
DTSTAMP:20260424T193159
CREATED:20250522T035335Z
LAST-MODIFIED:20250522T035335Z
UID:10676-1748268000-1748271600@kguluseperi.nadi.my
SUMMARY:Maxis E-Kelas Keusahawanan
DESCRIPTION:
URL:https://kguluseperi.nadi.my/event/maxis-e-kelas-keusahawanan-2/
LOCATION:NADI Ulu Seperi
END:VEVENT
BEGIN:VEVENT
DTSTART;TZID=Asia/Kuala_Lumpur:20250526T100000
DTEND;TZID=Asia/Kuala_Lumpur:20250526T110000
DTSTAMP:20260424T193159
CREATED:20250522T035259Z
LAST-MODIFIED:20250522T035259Z
UID:10674-1748253600-1748257200@kguluseperi.nadi.my
SUMMARY:Maxis E-Kelas Keusahawanan
DESCRIPTION:
URL:https://kguluseperi.nadi.my/event/maxis-e-kelas-keusahawanan/
LOCATION:NADI Ulu Seperi
END:VEVENT
BEGIN:VEVENT
DTSTART;TZID=Asia/Kuala_Lumpur:20250525T100000
DTEND;TZID=Asia/Kuala_Lumpur:20250525T120000
DTSTAMP:20260424T193159
CREATED:20250522T035156Z
LAST-MODIFIED:20250522T035156Z
UID:10672-1748167200-1748174400@kguluseperi.nadi.my
SUMMARY:NADI X Tiny Techies: Mentoring 5
DESCRIPTION:
URL:https://kguluseperi.nadi.my/event/nadi-x-tiny-techies-mentoring-5/
LOCATION:NADI Ulu Seperi
END:VEVENT
BEGIN:VEVENT
DTSTART;TZID=Asia/Kuala_Lumpur:20250525T093000
DTEND;TZID=Asia/Kuala_Lumpur:20250525T113000
DTSTAMP:20260424T193159
CREATED:20250522T034827Z
LAST-MODIFIED:20250522T034827Z
UID:10666-1748165400-1748172600@kguluseperi.nadi.my
SUMMARY:Mahir Masak: Pistachio Kunafa Brownies
DESCRIPTION:
URL:https://kguluseperi.nadi.my/event/mahir-masak-pistachio-kunafa-brownies/
LOCATION:NADI Ulu Seperi
END:VEVENT
BEGIN:VEVENT
DTSTART;TZID=Asia/Kuala_Lumpur:20250525T093000
DTEND;TZID=Asia/Kuala_Lumpur:20250525T103000
DTSTAMP:20260424T193159
CREATED:20250522T035004Z
LAST-MODIFIED:20250522T035100Z
UID:10668-1748165400-1748169000@kguluseperi.nadi.my
SUMMARY:NADI X Shield: Data Privasi Anda: Jejak yang Tak Pernah Hilang
DESCRIPTION:
URL:https://kguluseperi.nadi.my/event/nadi-x-shield-cara-menukar-lcd-telefon-pintar/
LOCATION:NADI Ulu Seperi
END:VEVENT
BEGIN:VEVENT
DTSTART;TZID=Asia/Kuala_Lumpur:20250525T093000
DTEND;TZID=Asia/Kuala_Lumpur:20250525T103000
DTSTAMP:20260424T193159
CREATED:20250516T065944Z
LAST-MODIFIED:20250516T065944Z
UID:10589-1748165400-1748169000@kguluseperi.nadi.my
SUMMARY:Mahir Pertanian Pintar
DESCRIPTION:
URL:https://kguluseperi.nadi.my/event/mahir-pertanian-pintar-15/
LOCATION:NADI Ulu Seperi
END:VEVENT
BEGIN:VEVENT
DTSTART;TZID=Asia/Kuala_Lumpur:20250524T143000
DTEND;TZID=Asia/Kuala_Lumpur:20250524T163000
DTSTAMP:20260424T193159
CREATED:20250516T065907Z
LAST-MODIFIED:20250516T065907Z
UID:10587-1748097000-1748104200@kguluseperi.nadi.my
SUMMARY:Webinar Berkala Bahasa Melayu
DESCRIPTION:
URL:https://kguluseperi.nadi.my/event/webinar-berkala-bahasa-melayu/
LOCATION:NADI Ulu Seperi
END:VEVENT
BEGIN:VEVENT
DTSTART;TZID=Asia/Kuala_Lumpur:20250523T150000
DTEND;TZID=Asia/Kuala_Lumpur:20250523T160000
DTSTAMP:20260424T193159
CREATED:20250522T034524Z
LAST-MODIFIED:20250522T034524Z
UID:10663-1748012400-1748016000@kguluseperi.nadi.my
SUMMARY:NADI X Safe: Malicious Website: Jangan Sesekali Klik
DESCRIPTION:
URL:https://kguluseperi.nadi.my/event/nadi-x-safe-malicious-website-jangan-sesekali-klik/
LOCATION:NADI Ulu Seperi
END:VEVENT
BEGIN:VEVENT
DTSTART;TZID=Asia/Kuala_Lumpur:20250523T143000
DTEND;TZID=Asia/Kuala_Lumpur:20250523T150000
DTSTAMP:20260424T193159
CREATED:20250516T065751Z
LAST-MODIFIED:20250516T065751Z
UID:10585-1748010600-1748012400@kguluseperi.nadi.my
SUMMARY:English Proficiency Lesson 8
DESCRIPTION:
URL:https://kguluseperi.nadi.my/event/english-proficiency-lesson-8/
LOCATION:NADI Ulu Seperi
END:VEVENT
BEGIN:VEVENT
DTSTART;TZID=Asia/Kuala_Lumpur:20250523T093000
DTEND;TZID=Asia/Kuala_Lumpur:20250523T103000
DTSTAMP:20260424T193159
CREATED:20250516T065704Z
LAST-MODIFIED:20250516T065718Z
UID:10583-1747992600-1747996200@kguluseperi.nadi.my
SUMMARY:Mahir Pertanian Pintar
DESCRIPTION:
URL:https://kguluseperi.nadi.my/event/mahir-pertanian-pintar-14/
LOCATION:NADI Ulu Seperi
END:VEVENT
BEGIN:VEVENT
DTSTART;TZID=Asia/Kuala_Lumpur:20250518T100000
DTEND;TZID=Asia/Kuala_Lumpur:20250518T120000
DTSTAMP:20260424T193159
CREATED:20250509T032716Z
LAST-MODIFIED:20250509T032716Z
UID:10526-1747562400-1747569600@kguluseperi.nadi.my
SUMMARY:Tiny Techies: Mentoring 4
DESCRIPTION:
URL:https://kguluseperi.nadi.my/event/tiny-techies-mentoring-4/
LOCATION:NADI Ulu Seperi
END:VEVENT
BEGIN:VEVENT
DTSTART;TZID=Asia/Kuala_Lumpur:20250518T093000
DTEND;TZID=Asia/Kuala_Lumpur:20250518T103000
DTSTAMP:20260424T193159
CREATED:20250509T032623Z
LAST-MODIFIED:20250509T032623Z
UID:10524-1747560600-1747564200@kguluseperi.nadi.my
SUMMARY:Mahir Pertanian Pintar
DESCRIPTION:
URL:https://kguluseperi.nadi.my/event/mahir-pertanian-pintar-13/
LOCATION:NADI Ulu Seperi
END:VEVENT
BEGIN:VEVENT
DTSTART;TZID=Asia/Kuala_Lumpur:20250517T100000
DTEND;TZID=Asia/Kuala_Lumpur:20250517T120000
DTSTAMP:20260424T193159
CREATED:20250509T032544Z
LAST-MODIFIED:20250509T032853Z
UID:10522-1747476000-1747483200@kguluseperi.nadi.my
SUMMARY:Tiny Techies: SQL
DESCRIPTION:Tiny
URL:https://kguluseperi.nadi.my/event/tiny-techies-sql/
LOCATION:NADI Ulu Seperi
END:VEVENT
BEGIN:VEVENT
DTSTART;TZID=Asia/Kuala_Lumpur:20250516T150000
DTEND;TZID=Asia/Kuala_Lumpur:20250516T160000
DTSTAMP:20260424T193159
CREATED:20250509T032442Z
LAST-MODIFIED:20250509T032442Z
UID:10520-1747407600-1747411200@kguluseperi.nadi.my
SUMMARY:English Proficiency Lesson 7
DESCRIPTION:
URL:https://kguluseperi.nadi.my/event/english-proficiency-lesson-7/
LOCATION:NADI Ulu Seperi
END:VEVENT
BEGIN:VEVENT
DTSTART;TZID=Asia/Kuala_Lumpur:20250516T093000
DTEND;TZID=Asia/Kuala_Lumpur:20250516T103000
DTSTAMP:20260424T193159
CREATED:20250509T032349Z
LAST-MODIFIED:20250509T032349Z
UID:10518-1747387800-1747391400@kguluseperi.nadi.my
SUMMARY:Mahir Pertanian Pintar
DESCRIPTION:
URL:https://kguluseperi.nadi.my/event/mahir-pertanian-pintar-12/
LOCATION:NADI Ulu Seperi
END:VEVENT
BEGIN:VEVENT
DTSTART;TZID=Asia/Kuala_Lumpur:20250511T093000
DTEND;TZID=Asia/Kuala_Lumpur:20250511T103000
DTSTAMP:20260424T193159
CREATED:20250509T032208Z
LAST-MODIFIED:20250509T032208Z
UID:10516-1746955800-1746959400@kguluseperi.nadi.my
SUMMARY:Mahir Pertanian Pintar
DESCRIPTION:
URL:https://kguluseperi.nadi.my/event/mahir-pertanian-pintar-11/
LOCATION:NADI Ulu Seperi
END:VEVENT
BEGIN:VEVENT
DTSTART;TZID=Asia/Kuala_Lumpur:20250510T100000
DTEND;TZID=Asia/Kuala_Lumpur:20250510T113000
DTSTAMP:20260424T193159
CREATED:20250509T032110Z
LAST-MODIFIED:20250509T032110Z
UID:10514-1746871200-1746876600@kguluseperi.nadi.my
SUMMARY:Webinar Cybersecurity 101: Perlindungan Siber & Ancaman Penggodam
DESCRIPTION:
URL:https://kguluseperi.nadi.my/event/webinar-cybersecurity-101-perlindungan-siber-ancaman-penggodam/
LOCATION:NADI Ulu Seperi
END:VEVENT
BEGIN:VEVENT
DTSTART;TZID=Asia/Kuala_Lumpur:20250510T093000
DTEND;TZID=Asia/Kuala_Lumpur:20250510T103000
DTSTAMP:20260424T193159
CREATED:20250502T040153Z
LAST-MODIFIED:20250502T040153Z
UID:10357-1746869400-1746873000@kguluseperi.nadi.my
SUMMARY:Mahir Baiki Gajet
DESCRIPTION:
URL:https://kguluseperi.nadi.my/event/mahir-baiki-gajet-9/
LOCATION:NADI Ulu Seperi
END:VEVENT
END:VCALENDAR