BEGIN:VCALENDAR
VERSION:2.0
PRODID:-//NADI Ulu Seperi - ECPv6.15.20//NONSGML v1.0//EN
CALSCALE:GREGORIAN
METHOD:PUBLISH
X-ORIGINAL-URL:https://kguluseperi.nadi.my
X-WR-CALDESC:Events for NADI Ulu Seperi
REFRESH-INTERVAL;VALUE=DURATION:PT1H
X-Robots-Tag:noindex
X-PUBLISHED-TTL:PT1H
BEGIN:VTIMEZONE
TZID:Asia/Kuala_Lumpur
BEGIN:STANDARD
TZOFFSETFROM:+0800
TZOFFSETTO:+0800
TZNAME:+08
DTSTART:20250101T000000
END:STANDARD
END:VTIMEZONE
BEGIN:VEVENT
DTSTART;TZID=Asia/Kuala_Lumpur:20260119T090000
DTEND;TZID=Asia/Kuala_Lumpur:20260125T180000
DTSTAMP:20260420T123529
CREATED:20260106T041258Z
LAST-MODIFIED:20260106T041258Z
UID:14726-1768813200-1769364000@kguluseperi.nadi.my
SUMMARY:English Proficiency Lesson 23
DESCRIPTION:
URL:https://kguluseperi.nadi.my/event/english-proficiency-lesson-23/
LOCATION:NADI Ulu Seperi
END:VEVENT
BEGIN:VEVENT
DTSTART;TZID=Asia/Kuala_Lumpur:20260122T153000
DTEND;TZID=Asia/Kuala_Lumpur:20260122T163000
DTSTAMP:20260420T123529
CREATED:20260106T041721Z
LAST-MODIFIED:20260106T041721Z
UID:14736-1769095800-1769099400@kguluseperi.nadi.my
SUMMARY:Open Tuition Bahasa Melayu Tingkatan 2
DESCRIPTION:
URL:https://kguluseperi.nadi.my/event/open-tuition-bahasa-melayu-tingkatan-2-2/
LOCATION:NADI Ulu Seperi
END:VEVENT
BEGIN:VEVENT
DTSTART;TZID=Asia/Kuala_Lumpur:20260122T153000
DTEND;TZID=Asia/Kuala_Lumpur:20260122T163000
DTSTAMP:20260420T123529
CREATED:20260106T041759Z
LAST-MODIFIED:20260106T041759Z
UID:14738-1769095800-1769099400@kguluseperi.nadi.my
SUMMARY:Open Tuition Bahasa Melayu Tingkatan 4
DESCRIPTION:
URL:https://kguluseperi.nadi.my/event/open-tuition-bahasa-melayu-tingkatan-4-2/
LOCATION:NADI Ulu Seperi
END:VEVENT
END:VCALENDAR