BEGIN:VCALENDAR
VERSION:2.0
PRODID:-//NADI Ulu Seperi - ECPv6.15.20//NONSGML v1.0//EN
CALSCALE:GREGORIAN
METHOD:PUBLISH
X-WR-CALNAME:NADI Ulu Seperi
X-ORIGINAL-URL:https://kguluseperi.nadi.my
X-WR-CALDESC:Events for NADI Ulu Seperi
REFRESH-INTERVAL;VALUE=DURATION:PT1H
X-Robots-Tag:noindex
X-PUBLISHED-TTL:PT1H
BEGIN:VTIMEZONE
TZID:Asia/Kuala_Lumpur
BEGIN:STANDARD
TZOFFSETFROM:+0800
TZOFFSETTO:+0800
TZNAME:+08
DTSTART:20250101T000000
END:STANDARD
END:VTIMEZONE
BEGIN:VEVENT
DTSTART;TZID=Asia/Kuala_Lumpur:20260115T150000
DTEND;TZID=Asia/Kuala_Lumpur:20260115T163000
DTSTAMP:20260420T214948
CREATED:20260106T040930Z
LAST-MODIFIED:20260106T040930Z
UID:14720-1768489200-1768494600@kguluseperi.nadi.my
SUMMARY:Cybersecurity: Ancaman Siber Dalam Dunia Digital
DESCRIPTION:
URL:https://kguluseperi.nadi.my/event/cybersecurity-ancaman-siber-dalam-dunia-digital/
LOCATION:NADI Ulu Seperi
END:VEVENT
BEGIN:VEVENT
DTSTART;TZID=Asia/Kuala_Lumpur:20260115T153000
DTEND;TZID=Asia/Kuala_Lumpur:20260115T163000
DTSTAMP:20260420T214948
CREATED:20260106T041102Z
LAST-MODIFIED:20260106T041102Z
UID:14722-1768491000-1768494600@kguluseperi.nadi.my
SUMMARY:Open Tuition Sains Tingkatan 2
DESCRIPTION:
URL:https://kguluseperi.nadi.my/event/open-tuition-sains-tingkatan-2/
LOCATION:NADI Ulu Seperi
END:VEVENT
BEGIN:VEVENT
DTSTART;TZID=Asia/Kuala_Lumpur:20260115T153000
DTEND;TZID=Asia/Kuala_Lumpur:20260115T163000
DTSTAMP:20260420T214948
CREATED:20260106T041154Z
LAST-MODIFIED:20260106T041154Z
UID:14724-1768491000-1768494600@kguluseperi.nadi.my
SUMMARY:Open Tuition Sains Tingkatan 4
DESCRIPTION:
URL:https://kguluseperi.nadi.my/event/open-tuition-sains-tingkatan-4/
LOCATION:NADI Ulu Seperi
END:VEVENT
END:VCALENDAR