BEGIN:VCALENDAR
VERSION:2.0
PRODID:-//NADI Ulu Seperi - ECPv6.15.20//NONSGML v1.0//EN
CALSCALE:GREGORIAN
METHOD:PUBLISH
X-ORIGINAL-URL:https://kguluseperi.nadi.my
X-WR-CALDESC:Events for NADI Ulu Seperi
REFRESH-INTERVAL;VALUE=DURATION:PT1H
X-Robots-Tag:noindex
X-PUBLISHED-TTL:PT1H
BEGIN:VTIMEZONE
TZID:Asia/Kuala_Lumpur
BEGIN:STANDARD
TZOFFSETFROM:+0800
TZOFFSETTO:+0800
TZNAME:+08
DTSTART:20250101T000000
END:STANDARD
END:VTIMEZONE
BEGIN:VEVENT
DTSTART;TZID=Asia/Kuala_Lumpur:20260105T090000
DTEND;TZID=Asia/Kuala_Lumpur:20260111T180000
DTSTAMP:20260420T123531
CREATED:20260106T034728Z
LAST-MODIFIED:20260106T034728Z
UID:14695-1767603600-1768154400@kguluseperi.nadi.my
SUMMARY:English Proficiency Lesson 22
DESCRIPTION:
URL:https://kguluseperi.nadi.my/event/english-proficiency-lesson-22/
LOCATION:NADI Ulu Seperi
END:VEVENT
BEGIN:VEVENT
DTSTART;TZID=Asia/Kuala_Lumpur:20260106T153000
DTEND;TZID=Asia/Kuala_Lumpur:20260106T163000
DTSTAMP:20260420T123531
CREATED:20260106T034359Z
LAST-MODIFIED:20260106T034359Z
UID:14689-1767713400-1767717000@kguluseperi.nadi.my
SUMMARY:Guidance Tuition Bahasa Melayu Tingkatan 4
DESCRIPTION:
URL:https://kguluseperi.nadi.my/event/guidance-tuition-bahasa-melayu-tingkatan-4/
LOCATION:NADI Ulu Seperi
END:VEVENT
BEGIN:VEVENT
DTSTART;TZID=Asia/Kuala_Lumpur:20260106T153000
DTEND;TZID=Asia/Kuala_Lumpur:20260106T163000
DTSTAMP:20260420T123531
CREATED:20260106T034524Z
LAST-MODIFIED:20260106T034524Z
UID:14691-1767713400-1767717000@kguluseperi.nadi.my
SUMMARY:Open Tuition Bahasa Inggeris Tingkatan 2
DESCRIPTION:
URL:https://kguluseperi.nadi.my/event/open-tuition-bahasa-inggeris-tingkatan-2/
LOCATION:NADI Ulu Seperi
END:VEVENT
BEGIN:VEVENT
DTSTART;TZID=Asia/Kuala_Lumpur:20260106T153000
DTEND;TZID=Asia/Kuala_Lumpur:20260106T163000
DTSTAMP:20260420T123531
CREATED:20260106T034612Z
LAST-MODIFIED:20260106T034612Z
UID:14693-1767713400-1767717000@kguluseperi.nadi.my
SUMMARY:Open Tuition Bahasa Inggeris Tingkatan 4
DESCRIPTION:
URL:https://kguluseperi.nadi.my/event/open-tuition-bahasa-inggeris-tingkatan-4/
LOCATION:NADI Ulu Seperi
END:VEVENT
END:VCALENDAR