BEGIN:VCALENDAR
VERSION:2.0
PRODID:-//NADI Ulu Seperi - ECPv6.15.20//NONSGML v1.0//EN
CALSCALE:GREGORIAN
METHOD:PUBLISH
X-WR-CALNAME:NADI Ulu Seperi
X-ORIGINAL-URL:https://kguluseperi.nadi.my
X-WR-CALDESC:Events for NADI Ulu Seperi
REFRESH-INTERVAL;VALUE=DURATION:PT1H
X-Robots-Tag:noindex
X-PUBLISHED-TTL:PT1H
BEGIN:VTIMEZONE
TZID:Asia/Kuala_Lumpur
BEGIN:STANDARD
TZOFFSETFROM:+0800
TZOFFSETTO:+0800
TZNAME:+08
DTSTART:20240101T000000
END:STANDARD
END:VTIMEZONE
BEGIN:VEVENT
DTSTART;TZID=Asia/Kuala_Lumpur:20250805T093000
DTEND;TZID=Asia/Kuala_Lumpur:20250805T110000
DTSTAMP:20260425T011655
CREATED:20250802T081601Z
LAST-MODIFIED:20250802T081601Z
UID:11765-1754386200-1754391600@kguluseperi.nadi.my
SUMMARY:Mahir Masak: Kak Ruzaisham (M3)
DESCRIPTION:
URL:https://kguluseperi.nadi.my/event/mahir-masak-kak-ruzaisham-m3/
LOCATION:NADI Ulu Seperi
END:VEVENT
BEGIN:VEVENT
DTSTART;TZID=Asia/Kuala_Lumpur:20250805T100000
DTEND;TZID=Asia/Kuala_Lumpur:20250805T110000
DTSTAMP:20260425T011655
CREATED:20250802T081513Z
LAST-MODIFIED:20250802T081844Z
UID:11763-1754388000-1754391600@kguluseperi.nadi.my
SUMMARY:E-Kelas: Modul 3
DESCRIPTION:
URL:https://kguluseperi.nadi.my/event/e-kelas-modul-3-4/
LOCATION:NADI Ulu Seperi
END:VEVENT
BEGIN:VEVENT
DTSTART;TZID=Asia/Kuala_Lumpur:20250805T150000
DTEND;TZID=Asia/Kuala_Lumpur:20250805T160000
DTSTAMP:20260425T011655
CREATED:20250802T081759Z
LAST-MODIFIED:20250802T081759Z
UID:11771-1754406000-1754409600@kguluseperi.nadi.my
SUMMARY:E-Kelas: Modul 4
DESCRIPTION:
URL:https://kguluseperi.nadi.my/event/e-kelas-modul-4/
LOCATION:NADI Ulu Seperi
END:VEVENT
END:VCALENDAR