BEGIN:VCALENDAR
VERSION:2.0
PRODID:-//NADI Ulu Seperi - ECPv6.15.20//NONSGML v1.0//EN
CALSCALE:GREGORIAN
METHOD:PUBLISH
X-ORIGINAL-URL:https://kguluseperi.nadi.my
X-WR-CALDESC:Events for NADI Ulu Seperi
REFRESH-INTERVAL;VALUE=DURATION:PT1H
X-Robots-Tag:noindex
X-PUBLISHED-TTL:PT1H
BEGIN:VTIMEZONE
TZID:Asia/Kuala_Lumpur
BEGIN:STANDARD
TZOFFSETFROM:+0800
TZOFFSETTO:+0800
TZNAME:+08
DTSTART:20240101T000000
END:STANDARD
END:VTIMEZONE
BEGIN:VEVENT
DTSTART;TZID=Asia/Kuala_Lumpur:20250804T100000
DTEND;TZID=Asia/Kuala_Lumpur:20250804T110000
DTSTAMP:20260421T155319
CREATED:20250802T081413Z
LAST-MODIFIED:20250802T081644Z
UID:11761-1754301600-1754305200@kguluseperi.nadi.my
SUMMARY:E-Kelas: Modul 1
DESCRIPTION:
URL:https://kguluseperi.nadi.my/event/e-kelas-modul-1-2/
LOCATION:NADI Ulu Seperi
END:VEVENT
BEGIN:VEVENT
DTSTART;TZID=Asia/Kuala_Lumpur:20250804T140000
DTEND;TZID=Asia/Kuala_Lumpur:20250804T150000
DTSTAMP:20260421T155319
CREATED:20250802T081726Z
LAST-MODIFIED:20250802T081726Z
UID:11769-1754316000-1754319600@kguluseperi.nadi.my
SUMMARY:E-Kelas: Modul 2
DESCRIPTION:
URL:https://kguluseperi.nadi.my/event/e-kelas-modul-2/
LOCATION:NADI Ulu Seperi
END:VEVENT
END:VCALENDAR