BEGIN:VCALENDAR
VERSION:2.0
PRODID:-//NADI Ulu Seperi - ECPv6.15.20//NONSGML v1.0//EN
CALSCALE:GREGORIAN
METHOD:PUBLISH
X-WR-CALNAME:NADI Ulu Seperi
X-ORIGINAL-URL:https://kguluseperi.nadi.my
X-WR-CALDESC:Events for NADI Ulu Seperi
REFRESH-INTERVAL;VALUE=DURATION:PT1H
X-Robots-Tag:noindex
X-PUBLISHED-TTL:PT1H
BEGIN:VTIMEZONE
TZID:Asia/Kuala_Lumpur
BEGIN:STANDARD
TZOFFSETFROM:+0800
TZOFFSETTO:+0800
TZNAME:+08
DTSTART:20240101T000000
END:STANDARD
END:VTIMEZONE
BEGIN:VEVENT
DTSTART;TZID=Asia/Kuala_Lumpur:20250530T093000
DTEND;TZID=Asia/Kuala_Lumpur:20250530T103000
DTSTAMP:20260423T192653
CREATED:20250528T061548Z
LAST-MODIFIED:20250528T061548Z
UID:10785-1748597400-1748601000@kguluseperi.nadi.my
SUMMARY:Mahir Pertanian Pintar
DESCRIPTION:
URL:https://kguluseperi.nadi.my/event/mahir-pertanian-pintar-16/
LOCATION:NADI Ulu Seperi
END:VEVENT
END:VCALENDAR