BEGIN:VCALENDAR
VERSION:2.0
PRODID:-//NADI Ulu Seperi - ECPv6.15.20//NONSGML v1.0//EN
CALSCALE:GREGORIAN
METHOD:PUBLISH
X-WR-CALNAME:NADI Ulu Seperi
X-ORIGINAL-URL:https://kguluseperi.nadi.my
X-WR-CALDESC:Events for NADI Ulu Seperi
REFRESH-INTERVAL;VALUE=DURATION:PT1H
X-Robots-Tag:noindex
X-PUBLISHED-TTL:PT1H
BEGIN:VTIMEZONE
TZID:Asia/Kuala_Lumpur
BEGIN:STANDARD
TZOFFSETFROM:+0800
TZOFFSETTO:+0800
TZNAME:+08
DTSTART:20240101T000000
END:STANDARD
END:VTIMEZONE
BEGIN:VEVENT
DTSTART;TZID=Asia/Kuala_Lumpur:20250523T093000
DTEND;TZID=Asia/Kuala_Lumpur:20250523T103000
DTSTAMP:20260424T081629
CREATED:20250516T065704Z
LAST-MODIFIED:20250516T065718Z
UID:10583-1747992600-1747996200@kguluseperi.nadi.my
SUMMARY:Mahir Pertanian Pintar
DESCRIPTION:
URL:https://kguluseperi.nadi.my/event/mahir-pertanian-pintar-14/
LOCATION:NADI Ulu Seperi
END:VEVENT
BEGIN:VEVENT
DTSTART;TZID=Asia/Kuala_Lumpur:20250523T143000
DTEND;TZID=Asia/Kuala_Lumpur:20250523T150000
DTSTAMP:20260424T081629
CREATED:20250516T065751Z
LAST-MODIFIED:20250516T065751Z
UID:10585-1748010600-1748012400@kguluseperi.nadi.my
SUMMARY:English Proficiency Lesson 8
DESCRIPTION:
URL:https://kguluseperi.nadi.my/event/english-proficiency-lesson-8/
LOCATION:NADI Ulu Seperi
END:VEVENT
BEGIN:VEVENT
DTSTART;TZID=Asia/Kuala_Lumpur:20250523T150000
DTEND;TZID=Asia/Kuala_Lumpur:20250523T160000
DTSTAMP:20260424T081629
CREATED:20250522T034524Z
LAST-MODIFIED:20250522T034524Z
UID:10663-1748012400-1748016000@kguluseperi.nadi.my
SUMMARY:NADI X Safe: Malicious Website: Jangan Sesekali Klik
DESCRIPTION:
URL:https://kguluseperi.nadi.my/event/nadi-x-safe-malicious-website-jangan-sesekali-klik/
LOCATION:NADI Ulu Seperi
END:VEVENT
END:VCALENDAR