BEGIN:VCALENDAR
VERSION:2.0
PRODID:-//NADI Ulu Seperi - ECPv6.15.20//NONSGML v1.0//EN
CALSCALE:GREGORIAN
METHOD:PUBLISH
X-WR-CALNAME:NADI Ulu Seperi
X-ORIGINAL-URL:https://kguluseperi.nadi.my
X-WR-CALDESC:Events for NADI Ulu Seperi
REFRESH-INTERVAL;VALUE=DURATION:PT1H
X-Robots-Tag:noindex
X-PUBLISHED-TTL:PT1H
BEGIN:VTIMEZONE
TZID:Asia/Kuala_Lumpur
BEGIN:STANDARD
TZOFFSETFROM:+0800
TZOFFSETTO:+0800
TZNAME:+08
DTSTART:20240101T000000
END:STANDARD
END:VTIMEZONE
BEGIN:VEVENT
DTSTART;TZID=Asia/Kuala_Lumpur:20250518T093000
DTEND;TZID=Asia/Kuala_Lumpur:20250518T103000
DTSTAMP:20260423T192658
CREATED:20250509T032623Z
LAST-MODIFIED:20250509T032623Z
UID:10524-1747560600-1747564200@kguluseperi.nadi.my
SUMMARY:Mahir Pertanian Pintar
DESCRIPTION:
URL:https://kguluseperi.nadi.my/event/mahir-pertanian-pintar-13/
LOCATION:NADI Ulu Seperi
END:VEVENT
BEGIN:VEVENT
DTSTART;TZID=Asia/Kuala_Lumpur:20250518T100000
DTEND;TZID=Asia/Kuala_Lumpur:20250518T120000
DTSTAMP:20260423T192658
CREATED:20250509T032716Z
LAST-MODIFIED:20250509T032716Z
UID:10526-1747562400-1747569600@kguluseperi.nadi.my
SUMMARY:Tiny Techies: Mentoring 4
DESCRIPTION:
URL:https://kguluseperi.nadi.my/event/tiny-techies-mentoring-4/
LOCATION:NADI Ulu Seperi
END:VEVENT
END:VCALENDAR