BEGIN:VCALENDAR
VERSION:2.0
PRODID:-//NADI Ulu Seperi - ECPv6.15.20//NONSGML v1.0//EN
CALSCALE:GREGORIAN
METHOD:PUBLISH
X-WR-CALNAME:NADI Ulu Seperi
X-ORIGINAL-URL:https://kguluseperi.nadi.my
X-WR-CALDESC:Events for NADI Ulu Seperi
REFRESH-INTERVAL;VALUE=DURATION:PT1H
X-Robots-Tag:noindex
X-PUBLISHED-TTL:PT1H
BEGIN:VTIMEZONE
TZID:Asia/Kuala_Lumpur
BEGIN:STANDARD
TZOFFSETFROM:+0800
TZOFFSETTO:+0800
TZNAME:+08
DTSTART:20240101T000000
END:STANDARD
END:VTIMEZONE
BEGIN:VEVENT
DTSTART;TZID=Asia/Kuala_Lumpur:20250510T093000
DTEND;TZID=Asia/Kuala_Lumpur:20250510T103000
DTSTAMP:20260423T234842
CREATED:20250502T040153Z
LAST-MODIFIED:20250502T040153Z
UID:10357-1746869400-1746873000@kguluseperi.nadi.my
SUMMARY:Mahir Baiki Gajet
DESCRIPTION:
URL:https://kguluseperi.nadi.my/event/mahir-baiki-gajet-9/
LOCATION:NADI Ulu Seperi
END:VEVENT
BEGIN:VEVENT
DTSTART;TZID=Asia/Kuala_Lumpur:20250510T100000
DTEND;TZID=Asia/Kuala_Lumpur:20250510T113000
DTSTAMP:20260423T234842
CREATED:20250509T032110Z
LAST-MODIFIED:20250509T032110Z
UID:10514-1746871200-1746876600@kguluseperi.nadi.my
SUMMARY:Webinar Cybersecurity 101: Perlindungan Siber & Ancaman Penggodam
DESCRIPTION:
URL:https://kguluseperi.nadi.my/event/webinar-cybersecurity-101-perlindungan-siber-ancaman-penggodam/
LOCATION:NADI Ulu Seperi
END:VEVENT
END:VCALENDAR